BEGIN:VCALENDAR
VERSION:2.0
PRODID:SchoolNow
CALSCALE:GREGORIAN
BEGIN:VEVENT
UID:2d38adca-dd8f-11ef-8c9e-0e956362e35d
DTSTAMP:20250128T154728Z
SUMMARY:Girls (JFK) 7th/8th Soccer v. Whitesboro
LOCATION:JFK Soccer Field
URL;VALUE=URI:https://www.uticaschools.org/departments/athletics/calendar/7
 386113/girls-jfk-7th-8th-soccer-v-whitesboro
DTSTART:20240930T201500Z
DTEND:20240930T211500Z
END:VEVENT
END:VCALENDAR
