BEGIN:VCALENDAR
VERSION:2.0
PRODID:SchoolNow
CALSCALE:GREGORIAN
BEGIN:VEVENT
UID:2dc6814a-dd8f-11ef-b539-0e956362e35d
DTSTAMP:20250128T154728Z
SUMMARY:Girls Varsity Volleyball Waterville\, Cooperstown\, Herkimer\, Litt
 le Falls @ Dolgeville
LOCATION:HS Gym #1
URL;VALUE=URI:https://www.uticaschools.org/departments/athletics/calendar/7
 386170/girls-varsity-volleyball-waterville-cooperstown-herkimer-little-fal
 ls-dolgeville
DTSTART:20250201T133000Z
DTEND:20250201T190000Z
END:VEVENT
END:VCALENDAR
