BEGIN:VCALENDAR
VERSION:2.0
PRODID:SchoolNow
CALSCALE:GREGORIAN
BEGIN:VEVENT
UID:2f53c464-dd8f-11ef-b23e-0e956362e35d
DTSTAMP:20250128T154731Z
SUMMARY:Clinton Cudos Swim Team @ PHS Swimming Pool (5:30 PM)
LOCATION:PHS Swimming Pool
URL;VALUE=URI:https://www.uticaschools.org/departments/athletics/calendar/7
 386572/clinton-cudos-swim-team-phs-swimming-pool-5-30-pm
DTSTART:20250205T223000Z
DTEND:20250206T003000Z
END:VEVENT
END:VCALENDAR
