BEGIN:VCALENDAR
VERSION:2.0
PRODID:SchoolNow
CALSCALE:GREGORIAN
BEGIN:VEVENT
UID:302a8a30-dd8f-11ef-a4be-0e956362e35d
DTSTAMP:20250128T154732Z
SUMMARY:Boys Junior Varsity Basketball v. TBD
LOCATION:PHS Main Gym
URL;VALUE=URI:https://www.uticaschools.org/departments/athletics/calendar/7
 386793/boys-junior-varsity-basketball-v-tbd
DTSTART:20250215T170000Z
DTEND:20250215T182500Z
END:VEVENT
END:VCALENDAR
