BEGIN:VCALENDAR
VERSION:2.0
PRODID:SchoolNow
CALSCALE:GREGORIAN
BEGIN:VEVENT
UID:309ca6c4-dd8f-11ef-8267-0e956362e35d
DTSTAMP:20250128T154733Z
SUMMARY:Boys (DMS) 7th/8th Basketball @ New Hartford (Blue)
LOCATION:Perry JH Gym
URL;VALUE=URI:https://www.uticaschools.org/departments/athletics/calendar/7
 386895/boys-dms-7th-8th-basketball-new-hartford-blue
DTSTART:20250207T210000Z
DTEND:20250207T220000Z
END:VEVENT
END:VCALENDAR
