BEGIN:VCALENDAR
VERSION:2.0
PRODID:SchoolNow
CALSCALE:GREGORIAN
BEGIN:VEVENT
UID:309cbda8-dd8f-11ef-8de6-0e956362e35d
DTSTAMP:20250128T154733Z
SUMMARY:Boys (JFK) 7th/8th Basketball v. Rome Free Academy (Black Team)
LOCATION:JFK Gym
URL;VALUE=URI:https://www.uticaschools.org/departments/athletics/calendar/7
 386909/boys-jfk-7th-8th-basketball-v-rome-free-academy-black-team
DTSTART:20250205T210000Z
DTEND:20250205T220000Z
END:VEVENT
END:VCALENDAR
