BEGIN:VCALENDAR
VERSION:2.0
PRODID:SchoolNow
CALSCALE:GREGORIAN
BEGIN:VEVENT
UID:31128fd8-dd8f-11ef-b94c-0e956362e35d
DTSTAMP:20250128T154734Z
SUMMARY:Girls (JFK) 7th/8th Basketball @ Vernon-Verona-Sherrill
LOCATION:VVS Main Gym (The Pit)
URL;VALUE=URI:https://www.uticaschools.org/departments/athletics/calendar/7
 386970/girls-jfk-7th-8th-basketball-vernon-verona-sherrill
DTSTART:20250205T213000Z
DTEND:20250205T223000Z
END:VEVENT
END:VCALENDAR
