BEGIN:VCALENDAR
VERSION:2.0
PRODID:SchoolNow
CALSCALE:GREGORIAN
BEGIN:VEVENT
UID:3112b8aa-dd8f-11ef-9bff-0e956362e35d
DTSTAMP:20250128T154734Z
SUMMARY:Girls Junior Varsity Volleyball v. Cooperstown
LOCATION:PHS AUX Gym (Volleyball gym)
URL;VALUE=URI:https://www.uticaschools.org/departments/athletics/calendar/7
 387008/girls-junior-varsity-volleyball-v-cooperstown
DTSTART:20241130T170000Z
DTEND:20241130T180000Z
END:VEVENT
END:VCALENDAR
