BEGIN:VCALENDAR
VERSION:2.0
PRODID:SchoolNow
CALSCALE:GREGORIAN
BEGIN:VEVENT
UID:31e68d7e-dd8f-11ef-b3e9-0e956362e35d
DTSTAMP:20250128T154735Z
SUMMARY:Boys Junior Varsity Basketball v. Central Valley Academy
LOCATION:PHS Main Gym
URL;VALUE=URI:https://www.uticaschools.org/departments/athletics/calendar/7
 387162/boys-junior-varsity-basketball-v-central-valley-academy
DTSTART:20250204T223000Z
DTEND:20250204T235500Z
END:VEVENT
END:VCALENDAR
