BEGIN:VCALENDAR
VERSION:2.0
PRODID:SchoolNow
CALSCALE:GREGORIAN
BEGIN:VEVENT
UID:32c534de-dd8f-11ef-a075-0e956362e35d
DTSTAMP:20250128T154737Z
SUMMARY:(G) V Winter Track - Practice (3:30 PM)
LOCATION:PHS Aux Gym ROTC  (small gym)
URL;VALUE=URI:https://www.uticaschools.org/departments/athletics/calendar/7
 387379/g-v-winter-track-practice-3-30-pm
DTSTART:20250211T203000Z
DTEND:20250211T213000Z
END:VEVENT
END:VCALENDAR
