BEGIN:VCALENDAR
VERSION:2.0
PRODID:SchoolNow
CALSCALE:GREGORIAN
BEGIN:VEVENT
UID:36c07864-dd8f-11ef-bf61-0e956362e35d
DTSTAMP:20250128T154744Z
SUMMARY:Boys Varsity Swimming/Diving v. TBD
URL;VALUE=URI:https://www.uticaschools.org/departments/athletics/calendar/7
 388232/boys-varsity-swimming-diving-v-tbd
DTSTART:20250211T193000Z
DTEND:20250211T203000Z
END:VEVENT
END:VCALENDAR
